BEGIN:VCALENDAR
VERSION:2.0
PRODID:-//The Community Edition - ECPv6.15.20//NONSGML v1.0//EN
CALSCALE:GREGORIAN
METHOD:PUBLISH
X-WR-CALNAME:The Community Edition
X-ORIGINAL-URL:https://www.communityedition.ca
X-WR-CALDESC:Events for The Community Edition
REFRESH-INTERVAL;VALUE=DURATION:PT1H
X-Robots-Tag:noindex
X-PUBLISHED-TTL:PT1H
BEGIN:VTIMEZONE
TZID:America/Toronto
BEGIN:DAYLIGHT
TZOFFSETFROM:-0500
TZOFFSETTO:-0400
TZNAME:EDT
DTSTART:20250309T070000
END:DAYLIGHT
BEGIN:STANDARD
TZOFFSETFROM:-0400
TZOFFSETTO:-0500
TZNAME:EST
DTSTART:20251102T060000
END:STANDARD
BEGIN:DAYLIGHT
TZOFFSETFROM:-0500
TZOFFSETTO:-0400
TZNAME:EDT
DTSTART:20260308T070000
END:DAYLIGHT
BEGIN:STANDARD
TZOFFSETFROM:-0400
TZOFFSETTO:-0500
TZNAME:EST
DTSTART:20261101T060000
END:STANDARD
BEGIN:DAYLIGHT
TZOFFSETFROM:-0500
TZOFFSETTO:-0400
TZNAME:EDT
DTSTART:20270314T070000
END:DAYLIGHT
BEGIN:STANDARD
TZOFFSETFROM:-0400
TZOFFSETTO:-0500
TZNAME:EST
DTSTART:20271107T060000
END:STANDARD
END:VTIMEZONE
BEGIN:VEVENT
DTSTART;TZID=America/Toronto:20260425T100000
DTEND;TZID=America/Toronto:20260425T100000
DTSTAMP:20260420T092550
CREATED:20260331T151620Z
LAST-MODIFIED:20260331T151621Z
UID:42875-1777111200-1777111200@www.communityedition.ca
SUMMARY:Etsy Spring Market
DESCRIPTION:The Etsy Waterloo Region is back at RIM park and features over 80 local artisans. You will find home decor\, pottery\, jewelry\, clothing\, food and more. Pick up a raffle card at the door\, or purchase three items at the show and enter to win a raffle prize!
URL:https://www.communityedition.ca/event/etsy-spring-market/
LOCATION:Rim Park and MAnulife Financial Healthy Living Centre\, Waterloo\, ON\, Canada
ATTACH;FMTTYPE=image/jpeg:https://www.communityedition.ca/wp-content/uploads/2024/05/placeholder.jpg
END:VEVENT
BEGIN:VEVENT
DTSTART;TZID=America/Toronto:20260425T150000
DTEND;TZID=America/Toronto:20260425T150000
DTSTAMP:20260420T092550
CREATED:20260331T171323Z
LAST-MODIFIED:20260331T171324Z
UID:42890-1777129200-1777129200@www.communityedition.ca
SUMMARY:Jays on the Big Screen
DESCRIPTION:Grab your crew and throw on your Jays gear\, the come cheer on the Toronto Blue Jays! Have all of the game day action live on the big screen. Rain or Shine\, or grab a spot in the Foundry Tavern’s bar instead.
URL:https://www.communityedition.ca/event/jays-on-the-big-screen/
LOCATION:The District Square\, 64 Grand Avenue South\, Cambridge\, ON\, Canada
ATTACH;FMTTYPE=image/jpeg:https://www.communityedition.ca/wp-content/uploads/2024/05/placeholder.jpg
END:VEVENT
BEGIN:VEVENT
DTSTART;TZID=America/Toronto:20260425T190000
DTEND;TZID=America/Toronto:20260425T190000
DTSTAMP:20260420T092550
CREATED:20260327T181400Z
LAST-MODIFIED:20260327T181401Z
UID:42706-1777143600-1777143600@www.communityedition.ca
SUMMARY:EVO Drag Bingo with Miss Moco
DESCRIPTION:Your hometown queen\, Miss Moço\, returns to bring you a night of performances and bingo! Bingo winners get to spin the Wheel of Prizes. There will be five rounds of Bingo\, with fabulous performances before and after. Bingo cards and dabbers (aka markers) provided.
URL:https://www.communityedition.ca/event/evo-drag-bingo-with-miss-moco/
LOCATION:EVO Kitchen and Bar\, 31 Water Street South\, Cambridge\, ON\, Canada
ATTACH;FMTTYPE=image/jpeg:https://www.communityedition.ca/wp-content/uploads/2024/05/placeholder.jpg
END:VEVENT
BEGIN:VEVENT
DTSTART;TZID=America/Toronto:20260426T110000
DTEND;TZID=America/Toronto:20260426T123000
DTSTAMP:20260420T092550
CREATED:20260327T173247Z
LAST-MODIFIED:20260327T173249Z
UID:42702-1777201200-1777206600@www.communityedition.ca
SUMMARY:Tea by the Grand
DESCRIPTION:Enjoy classic cottage tea\, complete with a selection of tea sandwiches\, scones with jam and whipped cream and other sweet treats! What could be better than a chat and some nosh in a cozy 168-year-old stone cottage?
URL:https://www.communityedition.ca/event/tea-by-the-grand-2/
LOCATION:McDougall Cottage Historic Site\, 89 Grand Avenue South\, Cambridge\, ON\, Canada
ATTACH;FMTTYPE=image/jpeg:https://www.communityedition.ca/wp-content/uploads/2024/05/placeholder.jpg
END:VEVENT
BEGIN:VEVENT
DTSTART;TZID=America/Toronto:20260426T140000
DTEND;TZID=America/Toronto:20260426T140000
DTSTAMP:20260420T092550
CREATED:20260331T173931Z
LAST-MODIFIED:20260331T173932Z
UID:42908-1777212000-1777212000@www.communityedition.ca
SUMMARY:Waleed Kush Afro-Jazz Matinee
DESCRIPTION:Join us for a special matinee concert welcoming the Waleed Kush Afro-Jazz quintet to Kitchener. More than just a band\, Waleed Kush-Afro Jazz draws from African values of community and shared knowledge. This ticketed show will have mixed seating available. There will be a cash and card bar at the venue\, as well as a food menu.
URL:https://www.communityedition.ca/event/waleed-kush-afro-jazz-matinee/
LOCATION:Queen Street Commons\, 43 Queen Street South\, Kitchener\, ON\, Canada
ATTACH;FMTTYPE=image/jpeg:https://www.communityedition.ca/wp-content/uploads/2024/05/placeholder.jpg
END:VEVENT
BEGIN:VEVENT
DTSTART;TZID=America/Toronto:20260427T183000
DTEND;TZID=America/Toronto:20260427T200000
DTSTAMP:20260420T092550
CREATED:20260414T214628Z
LAST-MODIFIED:20260414T214629Z
UID:43655-1777314600-1777320000@www.communityedition.ca
SUMMARY:Little Humans Big Tech
DESCRIPTION:Join in for ELLA’s 2026 Generator Event: Little Humans\, Big Tech. They are bringing together two powerhouse Canadian voices to spark a real conversation about supporting families in the digital age.
URL:https://www.communityedition.ca/event/little-humans-big-tech/
LOCATION:Central Library\, 85 Queen Street North\, Kitchener\, Ontario\, N2H 2H1\, Canada
ATTACH;FMTTYPE=image/jpeg:https://www.communityedition.ca/wp-content/uploads/2024/05/placeholder.jpg
END:VEVENT
BEGIN:VEVENT
DTSTART;TZID=America/Toronto:20260428T183000
DTEND;TZID=America/Toronto:20260428T203000
DTSTAMP:20260420T092550
CREATED:20260331T163727Z
LAST-MODIFIED:20260331T163728Z
UID:42884-1777401000-1777408200@www.communityedition.ca
SUMMARY:Creative Art Studio
DESCRIPTION:Check out this beginner-friendly art program for adults who want to explore sketching\, watercolour\, painting and acrylic painting in a supportive setting. Get guided time to experiment with basic techniques\, materials and colour. This program is open to all skill levels and all materials are provided.
URL:https://www.communityedition.ca/event/creative-art-studio/
LOCATION:John M. Harper Branch\, 500 Fischer-Hallman Road North\, Waterloo\, On\, Canada
ATTACH;FMTTYPE=image/jpeg:https://www.communityedition.ca/wp-content/uploads/2024/05/placeholder.jpg
END:VEVENT
END:VCALENDAR